BEGIN:VCALENDAR
VERSION:2.0
PRODID:-//St. Johns Technical High School//NONSGML Events//EN
CALSCALE:GREGORIAN
X-WR-CALNAME:St. Johns Technical High School - Events
X-ORIGINAL-URL:https://www-sjths.stjohns.k12.fl.us/events/event/
X-WR-CALDESC:St. Johns Technical High School - Events
BEGIN:VEVENT
UID:20250509T1410Z-1746799830.3066-EO-53281-1@172.21.0.77
STATUS:CONFIRMED
DTSTAMP:20260420T235100Z
CREATED:20250604T153600Z
LAST-MODIFIED:20250604T153600Z
DTSTART;VALUE=DATE:20250804
DTEND;VALUE=DATE:20250805
SUMMARY: Optional Teacher Planning Day
X-ALT-DESC;FMTTYPE=text/html: 
CATEGORIES:District Master Calendar
URL;VALUE=URI:https://www-sjths.stjohns.k12.fl.us/events/event/optional-tea
 cher-planning-day-2/
END:VEVENT
BEGIN:VEVENT
UID:20250509T1410Z-1746799830.3227-EO-53283-1@172.21.0.77
STATUS:CONFIRMED
DTSTAMP:20260420T235100Z
CREATED:20250604T153600Z
LAST-MODIFIED:20250604T153600Z
DTSTART;VALUE=DATE:20250805
DTEND;VALUE=DATE:20250809
SUMMARY: Teacher Pre-Planning
X-ALT-DESC;FMTTYPE=text/html: 
CATEGORIES:District Master Calendar
URL;VALUE=URI:https://www-sjths.stjohns.k12.fl.us/events/event/teacher-pre-
 planning-2/
END:VEVENT
BEGIN:VEVENT
UID:20250509T1410Z-1746799830.3363-EO-53284-1@172.21.0.77
STATUS:CONFIRMED
DTSTAMP:20260420T235100Z
CREATED:20250604T153600Z
LAST-MODIFIED:20250604T153600Z
DTSTART;VALUE=DATE:20250811
DTEND;VALUE=DATE:20250812
SUMMARY: Students Report to Class
X-ALT-DESC;FMTTYPE=text/html: 
CATEGORIES:District Master Calendar
URL;VALUE=URI:https://www-sjths.stjohns.k12.fl.us/events/event/students-rep
 ort-to-class-2/
END:VEVENT
BEGIN:VEVENT
UID:20250509T1410Z-1746799830.3502-EO-53287-1@172.21.0.77
STATUS:CONFIRMED
DTSTAMP:20260420T235100Z
CREATED:20250604T153600Z
LAST-MODIFIED:20250604T153600Z
DTSTART;VALUE=DATE:20250901
DTEND;VALUE=DATE:20250902
SUMMARY: Labor Day – Student / Teacher Holiday
X-ALT-DESC;FMTTYPE=text/html: 
CATEGORIES:District Master Calendar
URL;VALUE=URI:https://www-sjths.stjohns.k12.fl.us/events/event/labor-day-st
 udent-teacher-holiday-2/
END:VEVENT
BEGIN:VEVENT
UID:20250509T1431Z-1746801099.2926-EO-53337-1@172.21.0.77
STATUS:CONFIRMED
DTSTAMP:20260420T235100Z
CREATED:20250604T153600Z
LAST-MODIFIED:20250604T153600Z
DTSTART;VALUE=DATE:20250910
DTEND;VALUE=DATE:20250911
SUMMARY: Interims Issued
X-ALT-DESC;FMTTYPE=text/html: 
CATEGORIES:District Master Calendar
URL;VALUE=URI:https://www-sjths.stjohns.k12.fl.us/events/event/interims-iss
 ued-5/
END:VEVENT
BEGIN:VEVENT
UID:20250509T1417Z-1746800246.5092-EO-53288-1@172.21.0.77
STATUS:CONFIRMED
DTSTAMP:20260420T235100Z
CREATED:20250604T153600Z
LAST-MODIFIED:20250604T153600Z
DTSTART;VALUE=DATE:20250919
DTEND;VALUE=DATE:20250920
SUMMARY: Teacher Inservice Day – Student Holiday
X-ALT-DESC;FMTTYPE=text/html: 
CATEGORIES:District Master Calendar
URL;VALUE=URI:https://www-sjths.stjohns.k12.fl.us/events/event/teacher-inse
 rvice-day-student-holiday-4/
END:VEVENT
BEGIN:VEVENT
UID:20250509T1417Z-1746800246.5195-EO-53285-1@172.21.0.77
STATUS:CONFIRMED
DTSTAMP:20260420T235100Z
CREATED:20250604T153600Z
LAST-MODIFIED:20250604T153600Z
DTSTART;VALUE=DATE:20251010
DTEND;VALUE=DATE:20251011
SUMMARY: First Quarter Ends
X-ALT-DESC;FMTTYPE=text/html: 
CATEGORIES:District Master Calendar
URL;VALUE=URI:https://www-sjths.stjohns.k12.fl.us/events/event/first-quarte
 r-ends-2/
END:VEVENT
BEGIN:VEVENT
UID:20250509T1417Z-1746800246.5295-EO-53286-1@172.21.0.77
STATUS:CONFIRMED
DTSTAMP:20260420T235100Z
CREATED:20250604T153601Z
LAST-MODIFIED:20250604T153601Z
DTSTART;VALUE=DATE:20251013
DTEND;VALUE=DATE:20251014
SUMMARY: Teacher Planning Day – Student Holiday
X-ALT-DESC;FMTTYPE=text/html: 
CATEGORIES:District Master Calendar
URL;VALUE=URI:https://www-sjths.stjohns.k12.fl.us/events/event/teacher-plan
 ning-day-student-holiday-4/
END:VEVENT
BEGIN:VEVENT
UID:20250509T1431Z-1746801099.3826-EO-53338-1@172.21.0.77
STATUS:CONFIRMED
DTSTAMP:20260420T235100Z
CREATED:20250604T153601Z
LAST-MODIFIED:20250604T153601Z
DTSTART;VALUE=DATE:20251022
DTEND;VALUE=DATE:20251023
SUMMARY: Report Cards Issued
X-ALT-DESC;FMTTYPE=text/html: 
CATEGORIES:District Master Calendar
URL;VALUE=URI:https://www-sjths.stjohns.k12.fl.us/events/event/report-cards
 -issued-4/
END:VEVENT
BEGIN:VEVENT
UID:20250509T1417Z-1746800246.5395-EO-53289-1@172.21.0.77
STATUS:CONFIRMED
DTSTAMP:20260420T235100Z
CREATED:20250604T153601Z
LAST-MODIFIED:20250604T153601Z
DTSTART;VALUE=DATE:20251111
DTEND;VALUE=DATE:20251112
SUMMARY: Veterans Day – Student / Teacher Holiday
X-ALT-DESC;FMTTYPE=text/html: 
CATEGORIES:District Master Calendar
URL;VALUE=URI:https://www-sjths.stjohns.k12.fl.us/events/event/veterans-day
 -student-teacher-holiday-2/
END:VEVENT
BEGIN:VEVENT
UID:20250509T1431Z-1746801099.4404-EO-53339-1@172.21.0.77
STATUS:CONFIRMED
DTSTAMP:20260420T235100Z
CREATED:20250604T153601Z
LAST-MODIFIED:20250604T153601Z
DTSTART;VALUE=DATE:20251113
DTEND;VALUE=DATE:20251114
SUMMARY: Interims Issued
X-ALT-DESC;FMTTYPE=text/html: 
CATEGORIES:District Master Calendar
URL;VALUE=URI:https://www-sjths.stjohns.k12.fl.us/events/event/interims-iss
 ued-6/
END:VEVENT
BEGIN:VEVENT
UID:20250509T1417Z-1746800246.5492-EO-53290-1@172.21.0.77
STATUS:CONFIRMED
DTSTAMP:20260420T235100Z
CREATED:20250604T153601Z
LAST-MODIFIED:20250604T153601Z
DTSTART;VALUE=DATE:20251124
DTEND;VALUE=DATE:20251129
SUMMARY: Thanksgiving Break – Student / Teacher Holiday
X-ALT-DESC;FMTTYPE=text/html: 
CATEGORIES:District Master Calendar
URL;VALUE=URI:https://www-sjths.stjohns.k12.fl.us/events/event/thanksgiving
 -break-student-teacher-holiday-2/
END:VEVENT
BEGIN:VEVENT
UID:20250509T1417Z-1746800246.5584-EO-53291-1@172.21.0.77
STATUS:CONFIRMED
DTSTAMP:20260420T235100Z
CREATED:20250604T153601Z
LAST-MODIFIED:20250604T153601Z
DTSTART;VALUE=DATE:20251219
DTEND;VALUE=DATE:20251220
SUMMARY: Second Quarter / First Semester Ends
X-ALT-DESC;FMTTYPE=text/html: 
CATEGORIES:District Master Calendar
URL;VALUE=URI:https://www-sjths.stjohns.k12.fl.us/events/event/second-quart
 er-first-semester-ends-2/
END:VEVENT
BEGIN:VEVENT
UID:20250509T1421Z-1746800467.7666-EO-53292-1@172.21.0.77
STATUS:CONFIRMED
DTSTAMP:20260420T235100Z
CREATED:20250604T153601Z
LAST-MODIFIED:20250604T153601Z
DTSTART;VALUE=DATE:20251222
DTEND;VALUE=DATE:20260102
SUMMARY: Winter Break – Student / Teacher Holiday
X-ALT-DESC;FMTTYPE=text/html: 
CATEGORIES:District Master Calendar
URL;VALUE=URI:https://www-sjths.stjohns.k12.fl.us/events/event/winter-break
 -student-teacher-holiday/
END:VEVENT
BEGIN:VEVENT
UID:20250509T1421Z-1746800467.7772-EO-53304-1@172.21.0.77
STATUS:CONFIRMED
DTSTAMP:20260420T235100Z
CREATED:20250604T153601Z
LAST-MODIFIED:20250604T153601Z
DTSTART;VALUE=DATE:20260102
DTEND;VALUE=DATE:20260103
SUMMARY: Teacher Planning Day – Student Holiday
X-ALT-DESC;FMTTYPE=text/html: 
CATEGORIES:District Master Calendar
URL;VALUE=URI:https://www-sjths.stjohns.k12.fl.us/events/event/teacher-plan
 ning-day-student-holiday-5/
END:VEVENT
BEGIN:VEVENT
UID:20250509T1421Z-1746800467.7877-EO-53305-1@172.21.0.77
STATUS:CONFIRMED
DTSTAMP:20260420T235100Z
CREATED:20250604T153602Z
LAST-MODIFIED:20250604T153602Z
DTSTART;VALUE=DATE:20260105
DTEND;VALUE=DATE:20260106
SUMMARY: Classes Resume for Students / Second Semester Begins
X-ALT-DESC;FMTTYPE=text/html: 
CATEGORIES:District Master Calendar
URL;VALUE=URI:https://www-sjths.stjohns.k12.fl.us/events/event/classes-resu
 me-for-students-second-semester-begins/
END:VEVENT
BEGIN:VEVENT
UID:20250509T1431Z-1746801099.6056-EO-53340-1@172.21.0.77
STATUS:CONFIRMED
DTSTAMP:20260420T235100Z
CREATED:20250604T153602Z
LAST-MODIFIED:20250604T153602Z
DTSTART;VALUE=DATE:20260115
DTEND;VALUE=DATE:20260116
SUMMARY: Report Cards Issued
X-ALT-DESC;FMTTYPE=text/html: 
CATEGORIES:District Master Calendar
URL;VALUE=URI:https://www-sjths.stjohns.k12.fl.us/events/event/report-cards
 -issued-5/
END:VEVENT
BEGIN:VEVENT
UID:20250509T1421Z-1746800467.8-EO-53306-1@172.21.0.77
STATUS:CONFIRMED
DTSTAMP:20260420T235100Z
CREATED:20250604T153602Z
LAST-MODIFIED:20250604T153602Z
DTSTART;VALUE=DATE:20260119
DTEND;VALUE=DATE:20260120
SUMMARY: Martin Luther King Jr. Day – Student / Teacher Holiday
X-ALT-DESC;FMTTYPE=text/html: 
CATEGORIES:District Master Calendar
URL;VALUE=URI:https://www-sjths.stjohns.k12.fl.us/events/event/martin-luthe
 r-king-jr-day-student-teacher-holiday-2/
END:VEVENT
BEGIN:VEVENT
UID:20250509T1431Z-1746801099.6596-EO-53341-1@172.21.0.77
STATUS:CONFIRMED
DTSTAMP:20260420T235100Z
CREATED:20250604T153602Z
LAST-MODIFIED:20250604T153602Z
DTSTART;VALUE=DATE:20260210
DTEND;VALUE=DATE:20260211
SUMMARY: Interims Issued
X-ALT-DESC;FMTTYPE=text/html: 
CATEGORIES:District Master Calendar
URL;VALUE=URI:https://www-sjths.stjohns.k12.fl.us/events/event/interims-iss
 ued-7/
END:VEVENT
BEGIN:VEVENT
UID:20250509T1421Z-1746800467.8109-EO-53307-1@172.21.0.77
STATUS:CONFIRMED
DTSTAMP:20260420T235100Z
CREATED:20250604T153602Z
LAST-MODIFIED:20250604T153602Z
DTSTART;VALUE=DATE:20260213
DTEND;VALUE=DATE:20260214
SUMMARY: Teacher Inservice Day – Student Holiday
X-ALT-DESC;FMTTYPE=text/html: 
CATEGORIES:District Master Calendar
URL;VALUE=URI:https://www-sjths.stjohns.k12.fl.us/events/event/teacher-inse
 rvice-day-student-holiday-5/
END:VEVENT
BEGIN:VEVENT
UID:20250509T1421Z-1746800467.8218-EO-53308-1@172.21.0.77
STATUS:CONFIRMED
DTSTAMP:20260420T235100Z
CREATED:20250604T153602Z
LAST-MODIFIED:20250604T153602Z
DTSTART;VALUE=DATE:20260216
DTEND;VALUE=DATE:20260217
SUMMARY: Presidents’ Day – Student / Teacher Holiday
X-ALT-DESC;FMTTYPE=text/html: 
CATEGORIES:District Master Calendar
URL;VALUE=URI:https://www-sjths.stjohns.k12.fl.us/events/event/presidents-d
 ay-student-teacher-holiday-2/
END:VEVENT
BEGIN:VEVENT
UID:20250509T1421Z-1746800467.8598-EO-53309-1@172.21.0.77
STATUS:CONFIRMED
DTSTAMP:20260420T235100Z
CREATED:20250604T153602Z
LAST-MODIFIED:20250604T153602Z
DTSTART;VALUE=DATE:20260312
DTEND;VALUE=DATE:20260313
SUMMARY: Third Quarter Ends
X-ALT-DESC;FMTTYPE=text/html: 
CATEGORIES:District Master Calendar
URL;VALUE=URI:https://www-sjths.stjohns.k12.fl.us/events/event/third-quarte
 r-ends-2/
END:VEVENT
BEGIN:VEVENT
UID:20250509T1421Z-1746800467.8706-EO-53310-1@172.21.0.77
STATUS:CONFIRMED
DTSTAMP:20260420T235100Z
CREATED:20250604T153602Z
LAST-MODIFIED:20250604T153602Z
DTSTART;VALUE=DATE:20260313
DTEND;VALUE=DATE:20260314
SUMMARY: Teacher Planning Day – Student Holiday
X-ALT-DESC;FMTTYPE=text/html: 
CATEGORIES:District Master Calendar
URL;VALUE=URI:https://www-sjths.stjohns.k12.fl.us/events/event/teacher-plan
 ning-day-student-holiday-6/
END:VEVENT
BEGIN:VEVENT
UID:20250509T1421Z-1746800467.8865-EO-53311-1@172.21.0.77
STATUS:CONFIRMED
DTSTAMP:20260420T235100Z
CREATED:20250604T153603Z
LAST-MODIFIED:20250604T153603Z
DTSTART;VALUE=DATE:20260316
DTEND;VALUE=DATE:20260321
SUMMARY: Spring Break – Student / Teacher Holiday
X-ALT-DESC;FMTTYPE=text/html: 
CATEGORIES:District Master Calendar
URL;VALUE=URI:https://www-sjths.stjohns.k12.fl.us/events/event/spring-break
 -student-teacher-holiday-2/
END:VEVENT
BEGIN:VEVENT
UID:20250509T1421Z-1746800467.9021-EO-53312-1@172.21.0.77
STATUS:CONFIRMED
DTSTAMP:20260420T235100Z
CREATED:20250604T153603Z
LAST-MODIFIED:20250604T153603Z
DTSTART;VALUE=DATE:20260323
DTEND;VALUE=DATE:20260324
SUMMARY: Classes Resume for Students
X-ALT-DESC;FMTTYPE=text/html: 
CATEGORIES:District Master Calendar
URL;VALUE=URI:https://www-sjths.stjohns.k12.fl.us/events/event/classes-resu
 me-for-students-2/
END:VEVENT
BEGIN:VEVENT
UID:20250509T1432Z-1746801161.7654-EO-53342-1@172.21.0.77
STATUS:CONFIRMED
DTSTAMP:20260420T235100Z
CREATED:20250604T153603Z
LAST-MODIFIED:20250604T153603Z
DTSTART;VALUE=DATE:20260326
DTEND;VALUE=DATE:20260327
SUMMARY: Report Cards Issued
X-ALT-DESC;FMTTYPE=text/html: 
CATEGORIES:District Master Calendar
URL;VALUE=URI:https://www-sjths.stjohns.k12.fl.us/events/event/report-cards
 -issued-6/
END:VEVENT
BEGIN:VEVENT
UID:20250509T1425Z-1746800741.5863-EO-53313-1@172.21.0.77
STATUS:CONFIRMED
DTSTAMP:20260420T235100Z
CREATED:20250604T153603Z
LAST-MODIFIED:20250604T153603Z
DTSTART;VALUE=DATE:20260403
DTEND;VALUE=DATE:20260404
SUMMARY: Student / Teacher Holiday
X-ALT-DESC;FMTTYPE=text/html: 
CATEGORIES:District Master Calendar
URL;VALUE=URI:https://www-sjths.stjohns.k12.fl.us/events/event/student-teac
 her-holiday-3/
END:VEVENT
BEGIN:VEVENT
UID:20250509T1432Z-1746801161.7815-EO-53343-1@172.21.0.77
STATUS:CONFIRMED
DTSTAMP:20260420T235100Z
CREATED:20250604T153603Z
LAST-MODIFIED:20250604T153603Z
DTSTART;VALUE=DATE:20260428
DTEND;VALUE=DATE:20260429
SUMMARY: Interims Issued
X-ALT-DESC;FMTTYPE=text/html: 
CATEGORIES:District Master Calendar
URL;VALUE=URI:https://www-sjths.stjohns.k12.fl.us/events/event/interims-iss
 ued-8/
END:VEVENT
BEGIN:VEVENT
UID:20250509T1425Z-1746800741.6196-EO-53324-1@172.21.0.77
STATUS:CONFIRMED
DTSTAMP:20260420T235100Z
CREATED:20250604T153603Z
LAST-MODIFIED:20250604T153603Z
DTSTART;VALUE=DATE:20260525
DTEND;VALUE=DATE:20260526
SUMMARY: Memorial Day – Student / Teacher Holiday
X-ALT-DESC;FMTTYPE=text/html: 
CATEGORIES:District Master Calendar
URL;VALUE=URI:https://www-sjths.stjohns.k12.fl.us/events/event/memorial-day
 -student-teacher-holiday-2/
END:VEVENT
BEGIN:VEVENT
UID:20250509T1425Z-1746800741.63-EO-53325-1@172.21.0.77
STATUS:CONFIRMED
DTSTAMP:20260420T235100Z
CREATED:20250604T153603Z
LAST-MODIFIED:20250604T153603Z
DTSTART;VALUE=DATE:20260529
DTEND;VALUE=DATE:20260530
SUMMARY: Last Day for Students / Fourth Quarter Ends
X-ALT-DESC;FMTTYPE=text/html: 
CATEGORIES:District Master Calendar
URL;VALUE=URI:https://www-sjths.stjohns.k12.fl.us/events/event/last-day-for
 -students-fourth-quarter-ends/
END:VEVENT
BEGIN:VEVENT
UID:20250509T1432Z-1746801161.7981-EO-53351-1@172.21.0.77
STATUS:CONFIRMED
DTSTAMP:20260420T235100Z
CREATED:20250604T153604Z
LAST-MODIFIED:20250604T153604Z
DTSTART;VALUE=DATE:20260529
DTEND;VALUE=DATE:20260530
SUMMARY: Report Cards Issued – *Elementary only
X-ALT-DESC;FMTTYPE=text/html: 
CATEGORIES:District Master Calendar
URL;VALUE=URI:https://www-sjths.stjohns.k12.fl.us/events/event/report-cards
 -issued-elementary-only-2/
END:VEVENT
BEGIN:VEVENT
UID:20250509T1425Z-1746800741.64-EO-53326-1@172.21.0.77
STATUS:CONFIRMED
DTSTAMP:20260420T235100Z
CREATED:20250604T153604Z
LAST-MODIFIED:20250604T153604Z
DTSTART;VALUE=DATE:20260601
DTEND;VALUE=DATE:20260602
SUMMARY: Last Day for Teachers – Teacher Planning Day
X-ALT-DESC;FMTTYPE=text/html: 
CATEGORIES:District Master Calendar
URL;VALUE=URI:https://www-sjths.stjohns.k12.fl.us/events/event/last-day-for
 -teachers-teacher-planning-day-2/
END:VEVENT
BEGIN:VTIMEZONE
TZID:America/New_York
BEGIN:DAYLIGHT
TZOFFSETFROM:-0500
TZOFFSETTO:-0400
DTSTART:20250309T070000
TZNAME:EDT
END:DAYLIGHT
BEGIN:STANDARD
TZOFFSETFROM:-0400
TZOFFSETTO:-0500
DTSTART:20251102T060000
TZNAME:EST
END:STANDARD
BEGIN:DAYLIGHT
TZOFFSETFROM:-0500
TZOFFSETTO:-0400
DTSTART:20260308T070000
TZNAME:EDT
END:DAYLIGHT
END:VTIMEZONE
END:VCALENDAR
